BEGIN:VCALENDAR
VERSION:2.0
PRODID:spatie/icalendar-generator
DESCRIPTION:Events from EsPAZio DH
X-WR-CALDESC:Events from EsPAZio DH
REFRESH-INTERVAL;VALUE=DURATION:PT1440M
X-PUBLISHED-TTL:PT1440M
BEGIN:VTIMEZONE
TZID:Etc/GMT+0
BEGIN:STANDARD
DTSTART:20250613T000000Z
TZOFFSETFROM:+0000
TZOFFSETTO:+0000
END:STANDARD
END:VTIMEZONE
BEGIN:VTIMEZONE
TZID:UTC
BEGIN:STANDARD
DTSTART:20250726T195102Z
TZOFFSETFROM:+0000
TZOFFSETTO:+0000
END:STANDARD
END:VTIMEZONE
BEGIN:VEVENT
UID:94-12
DTSTAMP:20260422T195102Z
SUMMARY:Día Internacional de las Juezas
LOCATION:
ORGANIZER;CN=ctrlweb:MAILTO:manuel.ponce@anuies.mx
DTSTART;TZID=Etc/GMT+0;VALUE=DATE:20260310
DTEND;TZID=Etc/GMT+0;VALUE=DATE:20260311
X-ALT-DESC;FMTTYPE=TEXT/HTML:Esta fecha reconoce la importancia de la parti
 cipación de las mujeres en todos los niveles del poder judicial. Promueve
  la igualdad de género en los sistemas de justicia\, destacando el papel 
 de las juezas en la garantía de sociedades más justas\, inclusivas y equ
 itativas. Más Información 
CATEGORIES:General
URL;VALUE=URI:https://espazioprueba.anuies.mx/mc-events/dia-internacional-d
 e-las-juezas/
METHOD:PUBLISH
END:VEVENT
END:VCALENDAR