BEGIN:VCALENDAR
VERSION:2.0
PRODID:spatie/icalendar-generator
DESCRIPTION:Events from EsPAZio DH
X-WR-CALDESC:Events from EsPAZio DH
REFRESH-INTERVAL;VALUE=DURATION:PT1440M
X-PUBLISHED-TTL:PT1440M
BEGIN:VTIMEZONE
TZID:Etc/GMT+0
BEGIN:STANDARD
DTSTART:20250729T000000Z
TZOFFSETFROM:+0000
TZOFFSETTO:+0000
END:STANDARD
END:VTIMEZONE
BEGIN:VTIMEZONE
TZID:UTC
BEGIN:STANDARD
DTSTART:20250728T083531Z
TZOFFSETFROM:+0000
TZOFFSETTO:+0000
END:STANDARD
END:VTIMEZONE
BEGIN:VEVENT
UID:105-19
DTSTAMP:20260424T083531Z
SUMMARY:Día Internacional de las Niñas en las TIC (ITU)
LOCATION:
ORGANIZER;CN=ctrlweb:MAILTO:manuel.ponce@anuies.mx
DTSTART;TZID=Etc/GMT+0;VALUE=DATE:20260425
DTEND;TZID=Etc/GMT+0;VALUE=DATE:20260426
X-ALT-DESC;FMTTYPE=TEXT/HTML:Esta fecha\, impulsada por la Unión Internaci
 onal de Telecomunicaciones (UIT)\, busca alentar a las niñas y jóvenes a
  considerar carreras en el campo de las tecnologías de la información y 
 la comunicación. Promueve la igualdad de género en el sector tecnológic
 o y el empoderamiento de las nuevas generaciones a través del acceso y us
 o de&amp;hellip\;
CATEGORIES:General
URL;VALUE=URI:https://espazioprueba.anuies.mx/mc-events/dia-internacional-d
 e-las-ninas-en-las-tic-itu/
METHOD:PUBLISH
END:VEVENT
END:VCALENDAR