BEGIN:VCALENDAR
VERSION:2.0
PRODID:spatie/icalendar-generator
DESCRIPTION:Events from EsPAZio DH
X-WR-CALDESC:Events from EsPAZio DH
REFRESH-INTERVAL;VALUE=DURATION:PT1440M
X-PUBLISHED-TTL:PT1440M
BEGIN:VTIMEZONE
TZID:Etc/GMT+0
BEGIN:STANDARD
DTSTART:20250624T000000Z
TZOFFSETFROM:+0000
TZOFFSETTO:+0000
END:STANDARD
END:VTIMEZONE
BEGIN:VTIMEZONE
TZID:UTC
BEGIN:STANDARD
DTSTART:20250727T153657Z
TZOFFSETFROM:+0000
TZOFFSETTO:+0000
END:STANDARD
END:VTIMEZONE
BEGIN:VEVENT
UID:96-15
DTSTAMP:20260423T153657Z
SUMMARY:Día Mundial del Síndrome de Down
LOCATION:
ORGANIZER;CN=ctrlweb:MAILTO:manuel.ponce@anuies.mx
DTSTART;TZID=Etc/GMT+0;VALUE=DATE:20260321
DTEND;TZID=Etc/GMT+0;VALUE=DATE:20260322
X-ALT-DESC;FMTTYPE=TEXT/HTML:Esta fecha busca crear conciencia sobre el val
 or\, las contribuciones y los derechos de las personas con síndrome de Do
 wn. Promueve su inclusión plena en la sociedad y resalta la importancia d
 e garantizar su acceso a la educación\, el empleo y la participación act
 iva en la vida comunitaria. Más Información 
CATEGORIES:General
URL;VALUE=URI:https://espazioprueba.anuies.mx/mc-events/dia-mundial-del-sin
 drome-de-down/
METHOD:PUBLISH
END:VEVENT
END:VCALENDAR